BEGIN:VCALENDAR
VERSION:2.0
PRODID:-//Path of the Magdalene - ECPv6.15.13//NONSGML v1.0//EN
CALSCALE:GREGORIAN
METHOD:PUBLISH
X-WR-CALNAME:Path of the Magdalene
X-ORIGINAL-URL:https://pathofthemagdalene.com
X-WR-CALDESC:Events for Path of the Magdalene
REFRESH-INTERVAL;VALUE=DURATION:PT1H
X-Robots-Tag:noindex
X-PUBLISHED-TTL:PT1H
BEGIN:VTIMEZONE
TZID:Europe/London
BEGIN:DAYLIGHT
TZOFFSETFROM:+0000
TZOFFSETTO:+0100
TZNAME:BST
DTSTART:20240331T010000
END:DAYLIGHT
BEGIN:STANDARD
TZOFFSETFROM:+0100
TZOFFSETTO:+0000
TZNAME:GMT
DTSTART:20241027T010000
END:STANDARD
BEGIN:DAYLIGHT
TZOFFSETFROM:+0000
TZOFFSETTO:+0100
TZNAME:BST
DTSTART:20250330T010000
END:DAYLIGHT
BEGIN:STANDARD
TZOFFSETFROM:+0100
TZOFFSETTO:+0000
TZNAME:GMT
DTSTART:20251026T010000
END:STANDARD
BEGIN:DAYLIGHT
TZOFFSETFROM:+0000
TZOFFSETTO:+0100
TZNAME:BST
DTSTART:20260329T010000
END:DAYLIGHT
BEGIN:STANDARD
TZOFFSETFROM:+0100
TZOFFSETTO:+0000
TZNAME:GMT
DTSTART:20261025T010000
END:STANDARD
BEGIN:DAYLIGHT
TZOFFSETFROM:+0000
TZOFFSETTO:+0100
TZNAME:BST
DTSTART:20270328T010000
END:DAYLIGHT
BEGIN:STANDARD
TZOFFSETFROM:+0100
TZOFFSETTO:+0000
TZNAME:GMT
DTSTART:20271031T010000
END:STANDARD
END:VTIMEZONE
BEGIN:VEVENT
DTSTART;VALUE=DATE:20250926
DTEND;VALUE=DATE:20250929
DTSTAMP:20260421T194516
CREATED:20250827T105516Z
LAST-MODIFIED:20250827T105907Z
UID:10000105-1758844800-1759103999@pathofthemagdalene.com
SUMMARY:Heart of the Rose - Online Summit
DESCRIPTION:The Heart of the Rose online summit is a 3-day online summit that celebrates and amplifies the message of the rose and the Magdalene in our world with full days of talks\, workshops and ceremonies held by world-renowned teachers in the field of the rose and the sacred feminine. \nThe summit will be the seed gathering to launch an international rose community and platform. \nThe women’s Summit will take place from the 26-28th September (c.9am-9pm BST time).\nWe will be inviting and welcoming the rose brothers to join on Sunday. \n  \n\n\n\n\nFRIDAY – WHITE ROSE\n9-10am – Opening Circle \n10.15-11.30 – Anaïs Theyskens\, Bianca Kempe and Sophie Nevill – The Birth of the Golden Rose Age + Rose Foundation (https://www.instagram.com/anaismagdalenepriestess/\, https://www.instagram.com/iambiancakempe/\, https://www.instagram.com/the_kindest_thing/) \n11.30 – 12 – BREAK \n12-1.15 – XiangMing – The Original Dragon Lineages of Christ & Rainbow Prophecy of the 13th Tribe (https://www.instagram.com/earthstar.academy/) \n1.15-2.30 – LUNCH (breakout rooms) \n2.30 – 3.45 – Marguerite Rigoglioso\, Ph.D. – The Rose Lineage of the Marys + the Tradition of Miraculous Conception (SevenSistersMysterySchool.com) (https://www.instagram.com/margueriterigoglioso/) \n3.45-4.15 – BREAK \n4.15-5.45 – lsis Indriya and Rachel Rossitto – The Empress Codes (https://www.instagram.com/isis_indriya/ https://www.instagram.com/rachelrossitto/) \n6-6.30 –  Uma Dinsmore-Tuli – Yoga Nidra – Radical Rest (https://www.instagram.com/umadinsmoretuli/) \n6.30-8pm – DINNER \n8-9.30 – Achintya Devi + Ameya Cohen – Venusian Rose Grail Mysteries: Re-linking to the Power of the Womb (https://www.instagram.com/goddess_rising/ https://www.instagram.com/ameyacohen/) \n\n\n\n\n\n\n\n\n\n\n\n\n\n\n\n\nSATURDAY – RED ROSE\n9/9.30-10am – Morning Prayer and Meditation \n10.15-11.30 – Aletheia Pistis Sophia – Mary Magdalene’s Journey through France: Reclaiming the Anointed Feminine in the Temples of the Earth (https://www.instagram.com/aletheia.pistis.sophia/) \n11.30-12 – BREAK \n12–1.15 – Ebyan Zanini – The Dark Goddess Temple (https://www.instagram.com/ebyanzanini/) \n1.15 – 2.30 – LUNCH (breakout rooms) \n2.30 – 3.30 – Sophie Strand – Re-wilding the Magdelene: The Embodied Gospel (https://www.instagram.com/cosmogyny/) \n3.30-4 – BREAK \n4-5.30 – Rebecca Campbell – Healing the Mother-line with the Rose (https://www.instagram.com/rebeccacampbell_author/) \n6-6.30pm – Uma Dinsmore-Tuli – Yoga Nidra – Radical Rest (https://www.instagram.com/umadinsmoretuli/) \n6.30-8pm – DINNER \n8-9.30pm – Marya Stark – Live Music and Ceremony (marya-stark.com) (https://www.instagram.com/maryastark/) \n\n\n\n\n\n\n\n\n\n\n\n\n\n\n\n\nSUNDAY – PINK ROSE\n9-10.15 – Morning Prayer + Welcoming the Brothers of the Rose \n10.30-11.45 – Kiya Ankara and Leyolah Antara –  An Introduction to Egyptian Tantra (https://www.instagram.com/leyolah_antara/ https://www.instagram.com/kiya.ankara/) \n11.45 – 12.15 – BREAK \n12.15- 1.30 – Alize and Oliver Mathea – The Grail and Holy Family Legacy of Albion (https://www.instagram.com/alize_lily/ https://www.instagram.com/thegnosticdruid/) \n1.30 – 2.30 – LUNCH (breakout rooms) \n2.30-3.45 – Zefirah and Maxwell Gallman – Architecture of Creation: Building the New Temples in Union (https://www.instagram.com/gardenofazura/) \n3.45-4.15 – BREAK \n4.15 – 5.30 – Azra and Seren Bertrand – The Rose of the World – Remembering our Womb Cosmology (https://www.instagram.com/azra.bertrand/ https://www.instagram.com/serenbertrand/) \n5.45- 6.15 – Church of Love – Rev. Samantha Moyo  (https://www.instagram.com/mysticmoyo/) \n6.15-7.30 – DINNER \n7.30-9.30 – GLOBAL PRAYER CEREMONY \n\n\n\n\nFor more info\, you can have a look at the Heart of the Rose website HERE\nYou can have a look at the different ticket options HERE
URL:https://pathofthemagdalene.com/event/heart-of-the-rose-online-summit/
ATTACH;FMTTYPE=image/jpeg:https://pathofthemagdalene.com/wp-content/uploads/2025/08/525771329_10162413291693692_5263660158096935766_n.jpg
END:VEVENT
BEGIN:VEVENT
DTSTART;TZID=Europe/London:20251031T130000
DTEND;TZID=Europe/London:20251102T183000
DTSTAMP:20260421T194516
CREATED:20250827T102809Z
LAST-MODIFIED:20250827T102934Z
UID:10000102-1761915600-1762108200@pathofthemagdalene.com
SUMMARY:Rooted in Darkness
DESCRIPTION:A journey to understand darkness as an incredibly fertile space that seeds and nourishes our creations and strengthens our light. You will get to know the dark mother as an ally on your journey and explore your depths to become a more authentic\, deep\, full human being. \nOur live initiation takes place on 31/10\, 1/11\, 2/11 from 10AM to 12.30PM and 1.30 PM to 4PM daily.\nThe recording will be made available after the weekend. \nThis 3-day journey on zoom includes \n\nritual work\nmeditation\ntalks\njournalling prompts\nprayer\nenergetic activations\narchetypal work\ndream temple work\n\n\nLearn More and Book your Ticket HERE
URL:https://pathofthemagdalene.com/event/rooted-in-darkness/
CATEGORIES:Courses,Masterclass
ATTACH;FMTTYPE=image/jpeg:https://pathofthemagdalene.com/wp-content/uploads/2025/08/AdobeStock_1368933809-scaled.jpeg
END:VEVENT
BEGIN:VEVENT
DTSTART;VALUE=DATE:20251205
DTEND;VALUE=DATE:20251208
DTSTAMP:20260421T194516
CREATED:20240808T083606Z
LAST-MODIFIED:20250827T123232Z
UID:10000084-1764892800-1765151999@pathofthemagdalene.com
SUMMARY:Path of the Magdalene - Initiation III
DESCRIPTION:The Path of the Magdalene is a path of initiation for women\, it lifts the veil on the mysteries surrounding Mary Magdalene. It is an initiation into her medicine\, philosophy and spirituality. You will get to know her as an ancient mystery school priestess\, apostle of apostles\, a valued and important member of her community and one of the defining figures of our human history. \nThis is a path to reclaim our feminine wisdom\, awaken our inner power\, let go of illusions about femininity and familiarise ourselves with the teachings of Mary Magdalene. You will learn about the healing energy of the rose and the Magdalene energy and you will start to integrate these essences within to nourish all the aspects of your life with the vibrancy of the rose. \nThis path calls to women who: \n* Want to learn more about Mary Magdalene\, her story and her importance for women today and our evolving world \n* Are ready to assume who they are fully\, to stand tall and take action towards healing themselves and healing the world \n* Want to be part of a healthy sisterhood \n* Feel called by the heritage of the mystery school priestess \n* Have a real desire to be of service to love and support the path of harmony\, compassion and sacredness \n* Feel called by the perfume and the teaching of the rose \nYour initiation contains sacred rituals\, a revised history of Mary Magdalene\, rose Healing\, Womb and chakra healing\, Daily Magdalene Practices\, The Magdalene Mysteries: Initiations to integrate and awaken the sacred Magdalene symbols (and awaken the Magdalene Consciousness within)\, Anointment\, Meditations. \nPractical \nIn the third level we build the bridge with the masculine and deepen the connection to allow the Magdalene seed to flourish in every aspect of your life. If you wish you will be able to hold Magdalene circles after this initiation and if you desire to go further you can enter the Magdalene ministry after this initiation. This is a 3-day in-person initiation in Glastonbury that completes the cycle of the Path of the Magdalene. To participate you will need to have completed the level I and II Magdalene training. You will receive a certificate of participation after this weekend. \nRead more about the Path of the Magdalene here.  \nSign up for level III here. \nPlease note that this initiation will take place in both English and French.
URL:https://pathofthemagdalene.com/event/path-of-the-magdalene-initiation-iii-from-25th-to-27th-october-2024/
CATEGORIES:Events & festivals
ATTACH;FMTTYPE=image/png:https://pathofthemagdalene.com/wp-content/uploads/2022/09/Website-Event-Visuals.png
END:VEVENT
BEGIN:VEVENT
DTSTART;TZID=Europe/London:20260201T080000
DTEND;TZID=Europe/London:20260208T170000
DTSTAMP:20260421T194516
CREATED:20251220T124754Z
LAST-MODIFIED:20251220T114323Z
UID:10000108-1769932800-1770570000@pathofthemagdalene.com
SUMMARY:Scribing your Future in Egypt
DESCRIPTION:Seshat New Year Scribing Retreat\n7 Days in Luxor • Writing your Highest Timeline Into Being with Seshat\, Sound & Blue Lotus\nA sacred immersion at the threshold of the Chinese and Celtic New Year—held in Luxor\, the living heart of Ancient Egypt and the sacred land that will inform and support our visioning journey. We journey at the auspicious moment of Imbolc – the Celtic celebration of the first stirring and the re-activation of our creative juices and just before the Chinese year of the Fire Horse – an energy of bold action\, creativity\, innovation and vision. \nFor seven days\, we gather to consciously scribe the New Year into being\, give shape to our highest timeline and receive the inspiration and energy to fully support and nourish our creations in the new year. Guided by the wisdom and energetic presence of Seshat “mistress of the House of Books”\, ancient Egyptian goddess of writing\, arythmatic\, and divine architecture. We enter into a sacred\, creative birth portal where our future creations are seeded\, consecrated and anchored into form. \nDaily Flow \nWe will gather every day in the morning for yoga or movement to awaken our body and senses and after breakfast we will visit one of the sacred temples together\, tuning in to the gods and goddess of the temple with some journalling prompts to inform our creative process in the afternoon. After lunch we will gather to set our individual intentions for our sacred scribing time\, we will have time to work on our creations. Later in the afternoon we gather to discuss and share our progress or obstacles and in the evening we gather for sacred ceremony to integrate the energies of the day and fertilise our dream space. There are 2 private temple ceremonies during our week together. \nThe temples we will visit together\, aligned with our intention of creation and scribing\, are: \n\n\n\nKarnak temple\nLuxor temple\nDendera temple\nPhilae Temple\nMedinet Habu\nHatchepsut\n\n\n\nSome of our morning activities and evening ceremonies \n\nBlue lotus tea ceremony\nRose healing\nSound Bowl journey\nGuided meditation\nYoga\nCacao ceremonies\netc.\n\nOur Central Intention\nThis retreat is devoted to: \n\nDefining and refining our spiritual and creative priorities for the year ahead\nCreating a clear\, embodied plan to bring our divine creations into the world\nAmplifying our inner voice\, intuition\, and inner light\nAligning with our highest timeline and allowing it to emerge naturally\nInfusing our bodies\, visions\, and work with the light codes of Ancient Egypt\nNourishing ourselves fully to have the energy and inspiration that will carry us through the year\n\nWe are in deep listening and soft emergence\, we are not forcing our creations into being. This experience is about alignment to our inner muse\, remembrance of our innate capacities\, and precision —writing into being what is already true at the soul level. \nParticipation & Registration\nYour contribution to participate is 2500€\, this includes lodging (7 nights 1-8/02) & breakfast\, all the visits and the temple privatisation\, transportation to and from the temples and entry tickets to temples and any workshops or teachings you receive. \nWe start on the 1st of February in the evening and end on the 8th of February in the afternoon. It is recommended that you arrive with a flight to Luxor on the 1st in the morning and leave on the 8th in the afternoon or the 9th in the morning \nNot included: tips\, entry visa\, international flight\, airport taxi and meals not mentioned above. \nTo participate\, please send an email to hello@pathofthemagdalene.com
URL:https://pathofthemagdalene.com/event/scribing-your-future-in-egypt/
CATEGORIES:Retreats
ATTACH;FMTTYPE=image/jpeg:https://pathofthemagdalene.com/wp-content/uploads/2025/12/egypt-scaled.jpeg
END:VEVENT
BEGIN:VEVENT
DTSTART;TZID=Europe/London:20260307T100000
DTEND;TZID=Europe/London:20260307T111500
DTSTAMP:20260421T194516
CREATED:20260224T171145Z
LAST-MODIFIED:20260224T171709Z
UID:10000116-1772877600-1772882100@pathofthemagdalene.com
SUMMARY:Dolphin Wisdom: An immersion in their magic
DESCRIPTION:Encounter the Dolphins: A Journey into Joy\, Flow & Inner Truth \nStep into the playful realm of the dolphins and immerse yourself in their heart-opening magic. \nDolphins are ancient\, intelligent beings who embody joy\, harmony\, effortless flow and have a heart of gold. They remind us how to live from the heart — to move with grace instead of force\, to reconnect with our natural rhythm\, and to return to our innate truth. They have so much to teach us and to share with us and their energy is a medicine for all. \nCome and spend a mourning in their presence and immerse yourself in their healing\, activating frequencies. \nWe will share: \n✨ What dolphins bring to humanity and what they feel their purpose is\n✨ What we can learn from their way of being\n✨ Dolphin communication — understanding their energetic language\, frequency\, and the power of sound and vibration\n✨ A guided healing meditation to connect with dolphin consciousness \nDolphin energy invites us to soften\, to feel\, and to surrender. Where there is excess fire — urgency\, intensity\, burnout — dolphin wisdom offers the rest of the waters\, balance\, and restoration. Through their frequency\, we are gently guided back to flow. \nThis experience is an immersion into joy\, flow\, and heart expansion — a sacred space to remember who you are beneath the noise. Because the dolphins remember. \nCome ready to open\, to feel\, and to swim in the magic. \nPractical \nWe will meet on Saturday the 7th of March at 9.30AM for 75 minutes and come out all sparkly and renewed on the other side.\nYou can purchase a ticket for just £10 here: https://www.pathofthemagdalene.academy/offers/G9j4RzFX/checkout \nYour host \nAnaïs Theyskens is a priestess of the Magdalene who is in love with the dolphins and what they represent. She has been taking groups to meet the dolphins for many years and seen the miraculous transformations that have occurred through meeting them.
URL:https://pathofthemagdalene.com/event/dolphin-wisdom-an-immersion-in-their-magic/
CATEGORIES:Workshops
ATTACH;FMTTYPE=image/jpeg:https://pathofthemagdalene.com/wp-content/uploads/2026/02/AdobeStock_120375607-scaled.jpeg
END:VEVENT
BEGIN:VEVENT
DTSTART;TZID=Europe/London:20260517T080000
DTEND;TZID=Europe/London:20260524T170000
DTSTAMP:20260421T194516
CREATED:20251124T073940Z
LAST-MODIFIED:20251124T074014Z
UID:10000106-1779004800-1779642000@pathofthemagdalene.com
SUMMARY:Song of the Sea - Red Sea Egypt
DESCRIPTION:“Song of the Sea: Meet the Dolphins\, Pray with Water”\nA 7-day journey of rest\, play\, ritual\, and reverence  \nJoin us for a week of deep immersion in the crystal clear waters of the Red Sea\, where the dolphins bring us back to the ancient rhythms of sacred waters. This retreat is an invitation to return to the great womb of creation—the infinite ocean of possibility—and to awaken your whole being in movement\, joy\, and find inspiration in a new flow. We will settle in the serene bay of Sataya\, a dolphin reef nestled in the heart of the Red Sea\, and swim up to three times a day alongside free dolphins—pure beings of joy\, freedom\, and unconditional love—receiving their transmissions directly into our cells through these joyful and expansive encounters. \nEach afternoon\, we will gather on deck for rituals\, ceremonies\, and workshops dedicated to the mysteries of sacred water: ancient rites of purification and baptism\, water prayers\, songs and myths\, anointing practices – to reactivate the sacred waters within our bodies. Through intuitive writing\, singing\, storytelling\, meditation\, and ritual arts\, we will dialogue with the waters within\, encoding our cells with crystalline frequencies so that our inner light can shine more intensely in the world. This retreat is a pilgrimage of the heart—a rebirth into deep remembering of who we are and where we come from. \nPractical\nThe cost of participation includes: \n\n Up to 3 dolphin swims/day\nsnorkeling\nLodging on the boat in a twin room\nFull board\nthe meditations\, workshops and rituals on board\ntransport from and to the airport in Egypt\n\nPrice of participation: 1750€ \nFor more information or to reserve a spot\, please send an email to hello@ pathofthemagdalene.com (no spaces)
URL:https://pathofthemagdalene.com/event/song-of-the-sea-red-sea-egypt/
CATEGORIES:Retreats
ATTACH;FMTTYPE=image/png:https://pathofthemagdalene.com/wp-content/uploads/2025/11/song-of-the-sea.png
END:VEVENT
BEGIN:VEVENT
DTSTART;TZID=Europe/London:20260617T100000
DTEND;TZID=Europe/London:20260617T170000
DTSTAMP:20260421T194516
CREATED:20240527T114847Z
LAST-MODIFIED:20260224T112109Z
UID:10000076-1781690400-1781715600@pathofthemagdalene.com
SUMMARY:For the Love of the Rose
DESCRIPTION:Join us for this workshop that is an expression of our Love of the rose and a celebration of the Rose as an ambassador and symbol of (divine) love. \nHosted by two rose priestesses\, passionate about the sacred medicine she has to offer. We will explore the rose in her different dimensions during this full day immersion into her beauty and teachings. \nThe intention is to allow the essence of the rose to awaken our inner poetry\, to allow the rose to guide us on our inner path of beauty and replenish us with softness and inspiration\, envelop us in her sensuality. A full day of indulgence and a feast of senses where we will explore different ways to connect to the rose and integrate her spirit. We will learn about the rose as an ally of feminine health\, journey with her into our inner temples to gain greater understanding about our medicine and soul path\, connect to the flowers and create a rose-infused oil to stimulate our senses\, nourish our soul with mystical rose poetry and rose mythology. A mystical\, whimsical and mysterious deep dive into the medicine of the rose to awaken\, stimulate and enliven our inner rose garden. \nThis event will take place in the beautiful Apothecary Garden\, an exquisite rose garden in Butleigh\, at 10 minutes drive from Glastonbury center. \nDuring this full-day immersion we will: \n\nMake a sacred rose oil and distill the roses yourself\nLearn about the rose as a catalyst for feminine health\nDive into the mysteries of the rose as taught by Mary Magdalene\nRose meditations\nSharing of Rose poetry\nConscious journalling with rose prompts\nTalk to the roses by connecting to the exquisite rose bushes in the beautiful rose garden\, absorb their energy and receive answers from them\nTalk about the symbolism of the rose in different myths and stories\nRose Tea Ceremony\nEtc.\n\nPratical  \n\nYou are invited to a full-day workshop from 10 AM till 5PM\nWe invite you to take a pick-nick to enjoy the garden and share a “déjeuner sur l’herbe” together at lunchtime\nYour contribution is £133\nYou can purchase your ticket here: https://www.chloeisidora.com/events/for-the-love-of-roses\nVenue: Apothecary Garden\, 2 Rood Cottage\, Kingweston Road\, BA6 8TF Butleigh\n\nYour hosts  \nAnaïs Theyskens is a rose priestess\, myrrophore and founder of the Path of the Magdalene mystery school. Her mission is to resuscitate the teachings of Mary Magdalene and the divine mother through the archetype and medicine of the rose as practiced in an ancient lineage of priestesses and wisdom keepers. \nChloe Isidora supports and guides women to heal and connect deeply to their hearts and wombs through ancient feminine wisdom. She is the founder of “My Moon Power”\, a range of botanical oils to support women to maintain menstrual and cyclical harmony.
URL:https://pathofthemagdalene.com/event/for-the-love-of-the-rose/
CATEGORIES:Events & festivals,Masterclass
ATTACH;FMTTYPE=image/jpeg:https://pathofthemagdalene.com/wp-content/uploads/2024/05/AdobeStock_706261238-scaled.jpeg
END:VEVENT
END:VCALENDAR