BEGIN:VCALENDAR
VERSION:2.0
PRODID:-//Path of the Magdalene - ECPv6.15.13//NONSGML v1.0//EN
CALSCALE:GREGORIAN
METHOD:PUBLISH
X-ORIGINAL-URL:https://pathofthemagdalene.com
X-WR-CALDESC:Events for Path of the Magdalene
REFRESH-INTERVAL;VALUE=DURATION:PT1H
X-Robots-Tag:noindex
X-PUBLISHED-TTL:PT1H
BEGIN:VTIMEZONE
TZID:Europe/London
BEGIN:DAYLIGHT
TZOFFSETFROM:+0000
TZOFFSETTO:+0100
TZNAME:BST
DTSTART:20240331T010000
END:DAYLIGHT
BEGIN:STANDARD
TZOFFSETFROM:+0100
TZOFFSETTO:+0000
TZNAME:GMT
DTSTART:20241027T010000
END:STANDARD
BEGIN:DAYLIGHT
TZOFFSETFROM:+0000
TZOFFSETTO:+0100
TZNAME:BST
DTSTART:20250330T010000
END:DAYLIGHT
BEGIN:STANDARD
TZOFFSETFROM:+0100
TZOFFSETTO:+0000
TZNAME:GMT
DTSTART:20251026T010000
END:STANDARD
BEGIN:DAYLIGHT
TZOFFSETFROM:+0000
TZOFFSETTO:+0100
TZNAME:BST
DTSTART:20260329T010000
END:DAYLIGHT
BEGIN:STANDARD
TZOFFSETFROM:+0100
TZOFFSETTO:+0000
TZNAME:GMT
DTSTART:20261025T010000
END:STANDARD
END:VTIMEZONE
BEGIN:VEVENT
DTSTART;TZID=Europe/London:20250129T193000
DTEND;TZID=Europe/London:20250129T193000
DTSTAMP:20260421T212727
CREATED:20240116T105556Z
LAST-MODIFIED:20250129T202128Z
UID:10000063-1738179000-1738179000@pathofthemagdalene.com
SUMMARY:Awaken the Muse with Brigid on Imbolc
DESCRIPTION:Calling in the muse on Imbolc to inspire and fuel our creations of the year.  \nWe will start our time together with a talk on Brigid to understand her origin and power and to be able to consciously work with her symbols and energy to support our creative processes. We will then go into a meditation to connect to Brigid’s energy and fire up our inner hearth\, we will do a creative visioning exercise to fertilise our projects and I will give you some practices you can do at home to strengthen your connection to the muse and your own creative fire. \nOn Imbolc\, Brigid lights the fire of creation and growth in the depths of the earth and gets the juices flowing again. She does the same for us: she rekindles our inner flame and makes our creative juices circulate again. The more we nurture our fire\, the brighter our light will shine and our creations will illuminate the world. What is this fire that burns in our inner hearth? What is the fuel of our existence? Our fire is our soul’s purpose and the desire of our spirit expressed in our actions and creations. It is the pulse behind everything we do. What fuels our actions? What deep desires burn in our hearts and need to be manifested or expressed? \nFor me\, my fire is my belief in the healing power of kindness and the transformative power of the heart. I feel deeply that love and beauty will save the world and it is this fire that fuels all of my creations. What is your fire? What is your heartbeat? What mantra will inspire your sacred dance this year? \nReserve your spot here
URL:https://pathofthemagdalene.com/event/awaken-the-muse-with-brigid-on-imbolc/
ATTACH;FMTTYPE=image/png:https://pathofthemagdalene.com/wp-content/uploads/2024/01/imbolc.png
END:VEVENT
END:VCALENDAR