BEGIN:VCALENDAR
VERSION:2.0
PRODID:-//Path of the Magdalene - ECPv6.15.13//NONSGML v1.0//EN
CALSCALE:GREGORIAN
METHOD:PUBLISH
X-ORIGINAL-URL:https://pathofthemagdalene.com
X-WR-CALDESC:Events for Path of the Magdalene
REFRESH-INTERVAL;VALUE=DURATION:PT1H
X-Robots-Tag:noindex
X-PUBLISHED-TTL:PT1H
BEGIN:VTIMEZONE
TZID:Europe/London
BEGIN:DAYLIGHT
TZOFFSETFROM:+0000
TZOFFSETTO:+0100
TZNAME:BST
DTSTART:20220327T010000
END:DAYLIGHT
BEGIN:STANDARD
TZOFFSETFROM:+0100
TZOFFSETTO:+0000
TZNAME:GMT
DTSTART:20221030T010000
END:STANDARD
BEGIN:DAYLIGHT
TZOFFSETFROM:+0000
TZOFFSETTO:+0100
TZNAME:BST
DTSTART:20230326T010000
END:DAYLIGHT
BEGIN:STANDARD
TZOFFSETFROM:+0100
TZOFFSETTO:+0000
TZNAME:GMT
DTSTART:20231029T010000
END:STANDARD
BEGIN:DAYLIGHT
TZOFFSETFROM:+0000
TZOFFSETTO:+0100
TZNAME:BST
DTSTART:20240331T010000
END:DAYLIGHT
BEGIN:STANDARD
TZOFFSETFROM:+0100
TZOFFSETTO:+0000
TZNAME:GMT
DTSTART:20241027T010000
END:STANDARD
END:VTIMEZONE
BEGIN:VEVENT
DTSTART;TZID=Europe/London:20230414T100000
DTEND;TZID=Europe/London:20230416T170000
DTSTAMP:20260420T031612
CREATED:20221108T203304Z
LAST-MODIFIED:20221108T203425Z
UID:10000028-1681466400-1681664400@pathofthemagdalene.com
SUMMARY:Path of the Grail - Level III - Glastonbury
DESCRIPTION:The Path of the Grail is an initiation for men into the mysteries of the divine mother and the medicine of the rose\, supported and guided by the energy\, presence and teachings of Mary Magdalene. \nThis Grail Quest awakens memories of the knights of the round table\, the spirit of the templar knights and the energy of the courts of love\, weaving all of this together in coherence with the transmissions of Mary\, Mary Magdalene and Yeshua. \nThe third level of the Path of the Grail initiation is open to men who have completed the first two online levels of the Path of the Grail. This is an in-person initiation in Glastonbury. This level builds the bridge between the masculine and the feminine and contains a series of initiations to really activate and integrate what it means to be a grail keeper on the rose path. \nFind out more about the Path of the Grail and enrol: https://pathofthemagdalene.com/portfolio/path-of-the-grail/
URL:https://pathofthemagdalene.com/event/path-of-the-grail-level-iii-glastonbury/
ATTACH;FMTTYPE=image/png:https://pathofthemagdalene.com/wp-content/uploads/2022/11/La-voie-du-Graal-10.png
END:VEVENT
BEGIN:VEVENT
DTSTART;TZID=Europe/London:20230408T100000
DTEND;TZID=Europe/London:20230408T170000
DTSTAMP:20260420T031612
CREATED:20221108T184132Z
LAST-MODIFIED:20230325T184324Z
UID:10000025-1680948000-1680973200@pathofthemagdalene.com
SUMMARY:Path of the Magdalene - Level II - Online Pre-recorded Launch
DESCRIPTION:The Path of the Magdalene is a path of initiation and blossoming destined for women. By better understanding the story and frequency of Mary Magdalene\, we come into being fully. \nThe second level of the Path of the Magdalene initiation is open to women who have completed the first level of the Path of the Magdalene. You receive and activate the last two Magdalene mysteries\, deepen your knowledge of rose medicine and really integrate her frequency and the rose magic within. \nFind out more about the Path of the Magdalene: https://pathofthemagdalene.com/portfolio/the-path-of-the-magdalene/
URL:https://pathofthemagdalene.com/event/path-of-the-magdalene-level-ii-online-pre-recorded-launch/
ATTACH;FMTTYPE=image/png:https://pathofthemagdalene.com/wp-content/uploads/2022/11/Black-and-White-Wedding-Facebook-Event-Cover-Photo-4.png
END:VEVENT
BEGIN:VEVENT
DTSTART;TZID=Europe/London:20230307T100000
DTEND;TZID=Europe/London:20230307T170000
DTSTAMP:20260420T031612
CREATED:20221108T201734Z
LAST-MODIFIED:20221108T204738Z
UID:10000027-1678183200-1678208400@pathofthemagdalene.com
SUMMARY:Path of the Grail - Level II - Online Pre-recorded Launch
DESCRIPTION:The Path of the Grail is an initiation for men into the mysteries of the divine mother and the medicine of the rose\, supported and guided by the energy\, presence and teachings of Mary Magdalene. \nThis Grail Quest awakens memories of the knights of the round table\, the spirit of the templar knights and the energy of the courts of love\, weaving all of this together in coherence with the transmissions of Mary\, Mary Magdalene and Yeshua. \nThe second level of the Path of the Grail initiation is open to men who have completed the first level of the Path of the Grail. You receive and activate the last two Magdalene mysteries\, deepen your knowledge of rose medicine and really integrate the rose magic within. \nFind out more about the Path of the Grail: https://pathofthemagdalene.com/portfolio/path-of-the-grail/
URL:https://pathofthemagdalene.com/event/path-of-the-grail-level-ii-online-pre-recorded-launch/
ATTACH;FMTTYPE=image/png:https://pathofthemagdalene.com/wp-content/uploads/2022/11/La-voie-du-Graal-9.png
END:VEVENT
BEGIN:VEVENT
DTSTART;TZID=Europe/London:20230215T100000
DTEND;TZID=Europe/London:20230215T170000
DTSTAMP:20260420T031612
CREATED:20221108T201006Z
LAST-MODIFIED:20230102T203042Z
UID:10000026-1676455200-1676480400@pathofthemagdalene.com
SUMMARY:Path of the Grail - Level I - Online Pre-recorded Launch
DESCRIPTION:The Path of the Grail is an initiation for men into the mysteries of the divine mother and the medicine of the rose\, supported and guided by the energy\, presence and teachings of Mary Magdalene. \nThis Grail Quest awakens memories of the knights of the round table\, the spirit of the templar knights and the energy of the courts of love\, weaving all of this together in coherence with the transmissions of Mary\, Mary Magdalene and Yeshua. \n\nThis path calls men who: \n\n* Want to learn more about Mary Magdalene\, her story and her importance today in our evolving world\n* Are ready to assume who they are fully\, to stand tall and take action towards healing themselves and healing the world\n* Have a real desire to be of service to love and support the path of harmony\, compassion and sacredness\n* Feel called by the perfume and the teaching of the rose\n* Wish to awaken and honour the presence of the feminine within to establish inner balance and who want to establish healthy relationships with the feminine in their lives\n\nYour initiation contains sacred rituals\, a revised history of Mary Magdalene\, rose Healing\, Daily Magdalene and Grail Practices\, The Magdalene Mysteries: Initiations to integrate and awaken the sacred Magdalene symbols (and awaken the Magdalene Consciousness within)\, Anointment\, Meditations\, etc. \n\nFind out more about the Path of the Grail and enroll: https://pathofthemagdalene.com/portfolio/path-of-the-grail/
URL:https://pathofthemagdalene.com/event/path-of-the-grail-level-i-online-pre-recorded-launch/
ATTACH;FMTTYPE=image/png:https://pathofthemagdalene.com/wp-content/uploads/2022/11/La-voie-du-Graal-8.png
END:VEVENT
BEGIN:VEVENT
DTSTART;TZID=Europe/London:20230125T100000
DTEND;TZID=Europe/London:20230125T170000
DTSTAMP:20260420T031612
CREATED:20221010T184423Z
LAST-MODIFIED:20230102T203227Z
UID:10000017-1674640800-1674666000@pathofthemagdalene.com
SUMMARY:Path of the Magdalene - Level I - Online Pre-recorded Launch
DESCRIPTION:The Path of the Magdalene is a path of initiation and blossoming destined for women. By better understanding the story and frequency of Mary Magdalene\, we come into being fully. \nThe first level of the Magdalene initiation is intended to awaken the Magdalene within. You receive and activate the Magdalene mysteries\, learn more about her story and get introduced to rose medicine. You start to connect the dots of your own story and allow the healed feminine to take root within. \n\nThis is a path to reclaim our feminine wisdom\, awaken our inner power\, let go of illusions about femininity and familiarise ourselves with the teachings of Mary Magdalene. You will learn about the healing energy of the rose and the Magdalene energy and you will start to integrate these essences within to nourish all the aspects of your life with the vibrancy of the rose. \n\n\nThis path calls to women who: \n\n* Want to learn more about Mary Magdalene\, her story and her importance for women today and our evolving world\n* Are ready to assume who they are fully\, to stand tall and take action towards healing themselves and healing the world\n* Want to be part of a healthy sisterhood\n* Feel called by the heritage of the mystery school priestess\n* Have a real desire to be of service to love and support the path of harmony\, compassion and sacredness\n* Feel called by the perfume and the teaching of the rose\n\nYour initiation contains sacred rituals\, a revised history of Mary Magdalene\, rose Healing\, Womb and chakra healing\, Daily Magdalene Practices\, The Magdalene Mysteries: Initiations to integrate and awaken the sacred Magdalene symbols (and awaken the Magdalene Consciousness within)\, Anointment\, Meditations\, etc. \n\nFind out more about the Path of the Magdalene: https://pathofthemagdalene.com/portfolio/the-path-of-the-magdalene/
URL:https://pathofthemagdalene.com/event/path-of-the-magdalene-level-i-online-pre-recorded-launch/
ATTACH;FMTTYPE=image/png:https://pathofthemagdalene.com/wp-content/uploads/2022/10/Black-and-White-Wedding-Facebook-Event-Cover-Photo-1.png
END:VEVENT
END:VCALENDAR