BEGIN:VCALENDAR
VERSION:2.0
PRODID:-//Path of the Magdalene - ECPv6.15.13//NONSGML v1.0//EN
CALSCALE:GREGORIAN
METHOD:PUBLISH
X-ORIGINAL-URL:https://pathofthemagdalene.com
X-WR-CALDESC:Évènements pour Path of the Magdalene
REFRESH-INTERVAL;VALUE=DURATION:PT1H
X-Robots-Tag:noindex
X-PUBLISHED-TTL:PT1H
BEGIN:VTIMEZONE
TZID:Europe/London
BEGIN:DAYLIGHT
TZOFFSETFROM:+0000
TZOFFSETTO:+0100
TZNAME:BST
DTSTART:20240331T010000
END:DAYLIGHT
BEGIN:STANDARD
TZOFFSETFROM:+0100
TZOFFSETTO:+0000
TZNAME:GMT
DTSTART:20241027T010000
END:STANDARD
BEGIN:DAYLIGHT
TZOFFSETFROM:+0000
TZOFFSETTO:+0100
TZNAME:BST
DTSTART:20250330T010000
END:DAYLIGHT
BEGIN:STANDARD
TZOFFSETFROM:+0100
TZOFFSETTO:+0000
TZNAME:GMT
DTSTART:20251026T010000
END:STANDARD
BEGIN:DAYLIGHT
TZOFFSETFROM:+0000
TZOFFSETTO:+0100
TZNAME:BST
DTSTART:20260329T010000
END:DAYLIGHT
BEGIN:STANDARD
TZOFFSETFROM:+0100
TZOFFSETTO:+0000
TZNAME:GMT
DTSTART:20261025T010000
END:STANDARD
END:VTIMEZONE
BEGIN:VEVENT
DTSTART;TZID=Europe/London:20251104T090000
DTEND;TZID=Europe/London:20251106T153000
DTSTAMP:20260422T093732
CREATED:20250827T103440Z
LAST-MODIFIED:20250827T103538Z
UID:10000103-1762246800-1762443000@pathofthemagdalene.com
SUMMARY:Racines Profondes
DESCRIPTION:Un voyage pour comprendre l’obscurité comme un espace incroyablement fertile qui sème et nourrit nos créations et renforce notre lumière. Vous apprendrez à connaître la vierge noire comme une alliée sur votre chemin et explorerez vos profondeurs pour devenir un être humain plus authentique\, plus profond et plus complet.\nNotre initiation en direct aura lieu les 4/11\, 5/11 et 6/11\, tous les jours de 10 h à 12h30 et de 13h30 à 16h.\nL’enregistrement sera disponible après le week-end. \nCe voyage de 3 jours sur Zoom comprend \n\ndes rituels\nde la méditation\ndes discussions\ndes suggestions pour tenir un journal\ndes prières\ndes activations énergétiques\ndu travail sur les archétypes\ndu travail sur le temple des rêves\n\nPlus d’infos et Tickets ICI \n 
URL:https://pathofthemagdalene.com/event/racines-profondes/
CATEGORIES:Masterclass
ATTACH;FMTTYPE=image/jpeg:https://pathofthemagdalene.com/wp-content/uploads/2025/08/AdobeStock_1368933809-scaled.jpeg
END:VEVENT
END:VCALENDAR