BEGIN:VCALENDAR
VERSION:2.0
PRODID:-//Path of the Magdalene - ECPv6.15.13//NONSGML v1.0//EN
CALSCALE:GREGORIAN
METHOD:PUBLISH
X-WR-CALNAME:Path of the Magdalene
X-ORIGINAL-URL:https://pathofthemagdalene.com
X-WR-CALDESC:Évènements pour Path of the Magdalene
REFRESH-INTERVAL;VALUE=DURATION:PT1H
X-Robots-Tag:noindex
X-PUBLISHED-TTL:PT1H
BEGIN:VTIMEZONE
TZID:Europe/London
BEGIN:DAYLIGHT
TZOFFSETFROM:+0000
TZOFFSETTO:+0100
TZNAME:BST
DTSTART:20240331T010000
END:DAYLIGHT
BEGIN:STANDARD
TZOFFSETFROM:+0100
TZOFFSETTO:+0000
TZNAME:GMT
DTSTART:20241027T010000
END:STANDARD
BEGIN:DAYLIGHT
TZOFFSETFROM:+0000
TZOFFSETTO:+0100
TZNAME:BST
DTSTART:20250330T010000
END:DAYLIGHT
BEGIN:STANDARD
TZOFFSETFROM:+0100
TZOFFSETTO:+0000
TZNAME:GMT
DTSTART:20251026T010000
END:STANDARD
BEGIN:DAYLIGHT
TZOFFSETFROM:+0000
TZOFFSETTO:+0100
TZNAME:BST
DTSTART:20260329T010000
END:DAYLIGHT
BEGIN:STANDARD
TZOFFSETFROM:+0100
TZOFFSETTO:+0000
TZNAME:GMT
DTSTART:20261025T010000
END:STANDARD
END:VTIMEZONE
BEGIN:VEVENT
DTSTART;TZID=Europe/London:20251205T093000
DTEND;TZID=Europe/London:20251207T170000
DTSTAMP:20260422T074040
CREATED:20240123T113300Z
LAST-MODIFIED:20250827T123107Z
UID:10000065-1764927000-1765126800@pathofthemagdalene.com
SUMMARY:Voie de la Madeleine - Initiation III - Glastonbury
DESCRIPTION:La Voie de la Madeleine est un chemin d’initiation pour les femmes\, il lève le voile sur les mystères qui entourent Marie Madeleine. Il s’agit d’une initiation à sa médecine\, à sa philosophie et à sa spiritualité. Vous apprendrez à la connaître en tant que prêtresse d’une ancienne école de mystères\, apôtre des apôtres\, membre important et apprécié de sa communauté et l’une des figures déterminantes de notre histoire humaine. \nIl s’agit d’un chemin pour récupérer notre sagesse féminine\, éveiller notre pouvoir intérieur\, abandonner les illusions sur la féminité et nous familiariser avec les enseignements de Marie-Madeleine. Vous apprendrez à connaître l’énergie de guérison de la rose et l’énergie de Marie-Madeleine et vous commencerez à intégrer ces essences à l’intérieur de vous pour nourrir tous les aspects de votre vie avec la vibration de la rose. \nCe parcours s’adresse aux femmes qui : \n* veulent en savoir plus sur Marie Madeleine\, son histoire et son importance pour les femmes d’aujourd’hui et notre monde en évolution \n* Sont prêtes à assumer pleinement qui elles sont\, à se tenir debout et à agir pour se guérir et guérir le monde. \n* veulent faire partie d’une fraternité saine \n* Se sentent appelées par l’héritage de la prêtresse de l’école des mystères \n* Avoir un réel désir d’être au service de l’amour et de soutenir le chemin de l’harmonie\, de la compassion et de la sacralité. \n* Se sentent appelées par le parfum et l’enseignement de la rose \nVotre initiation contient des rituels sacrés\, une histoire révisée de Marie-Madeleine\, la guérison des roses\, la guérison de l’utérus et des chakras\, les pratiques quotidiennes de Marie-Madeleine\, les mystères de Marie-Madeleine : Initiations pour intégrer et éveiller les symboles sacrés de la Madeleine (et éveiller la conscience de la Madeleine à l’intérieur)\, Onction\, Méditations. \n\n\n\nPratique \nDans le troisième niveau nous construisons le pont avec le masculin et approfondissons la connexion avec la Madeleine pour laisser fleurir les graines de la Madeleine dans tous les aspects de la vie. Si vous souhaitez\, vous pouvez organiser des cercles de la Madeleine et des soins de la rose suite à cette initiation. C’est une initiation de trois jours en présence à Glastonbury. Pour participer\, vous avez besoin d’avoir complété le niveau I & II de la Voie de la Madeleine. \nPour en savoir plus sur la Voie de la Madeleine\, cliquez ici. \nInscrivez-vous au niveau III ici.
URL:https://pathofthemagdalene.com/event/voie-de-la-madeleine-initiation-iii-glastonbury-2/
ATTACH;FMTTYPE=image/png:https://pathofthemagdalene.com/wp-content/uploads/2023/06/Website-Event-Visuals-1.png
END:VEVENT
END:VCALENDAR