BEGIN:VCALENDAR
VERSION:2.0
PRODID:-//Path of the Magdalene - ECPv6.15.20//NONSGML v1.0//EN
CALSCALE:GREGORIAN
METHOD:PUBLISH
X-WR-CALNAME:Path of the Magdalene
X-ORIGINAL-URL:https://pathofthemagdalene.com
X-WR-CALDESC:Évènements pour Path of the Magdalene
REFRESH-INTERVAL;VALUE=DURATION:PT1H
X-Robots-Tag:noindex
X-PUBLISHED-TTL:PT1H
BEGIN:VTIMEZONE
TZID:Europe/London
BEGIN:DAYLIGHT
TZOFFSETFROM:+0000
TZOFFSETTO:+0100
TZNAME:BST
DTSTART:20230326T010000
END:DAYLIGHT
BEGIN:STANDARD
TZOFFSETFROM:+0100
TZOFFSETTO:+0000
TZNAME:GMT
DTSTART:20231029T010000
END:STANDARD
BEGIN:DAYLIGHT
TZOFFSETFROM:+0000
TZOFFSETTO:+0100
TZNAME:BST
DTSTART:20240331T010000
END:DAYLIGHT
BEGIN:STANDARD
TZOFFSETFROM:+0100
TZOFFSETTO:+0000
TZNAME:GMT
DTSTART:20241027T010000
END:STANDARD
BEGIN:DAYLIGHT
TZOFFSETFROM:+0000
TZOFFSETTO:+0100
TZNAME:BST
DTSTART:20250330T010000
END:DAYLIGHT
BEGIN:STANDARD
TZOFFSETFROM:+0100
TZOFFSETTO:+0000
TZNAME:GMT
DTSTART:20251026T010000
END:STANDARD
BEGIN:DAYLIGHT
TZOFFSETFROM:+0000
TZOFFSETTO:+0100
TZNAME:BST
DTSTART:20260329T010000
END:DAYLIGHT
BEGIN:STANDARD
TZOFFSETFROM:+0100
TZOFFSETTO:+0000
TZNAME:GMT
DTSTART:20261025T010000
END:STANDARD
END:VTIMEZONE
BEGIN:VEVENT
DTSTART;TZID=Europe/London:20241003T180000
DTEND;TZID=Europe/London:20241003T203000
DTSTAMP:20260425T050549
CREATED:20240912T150223Z
LAST-MODIFIED:20240914T101026Z
UID:10000090-1727978400-1727987400@pathofthemagdalene.com
SUMMARY:Atelier: Le Chemin des Roses
DESCRIPTION:Rejoignez-nous pour cet atelier qui a l’intention de ramener la fréquence et la transmission de Marie-Madeleine dans le corps\, d’éveiller la présence de la rose dans nos cellules. \nUne invitation par Anaïs Theyskens\, fondatrice de la Voie de la Madeleine et Camille\, créatrice de la Danse de la Rose\, à se connecter à la fréquence Marie-Madeleine\, à se relier toutes entre roses.\n \nPartageons un moment pour sentir\, vibrer et incarner la Rose\, pour nous et pour le monde. Il n’y a plus de retour en arrière\, plus rien ne peut être pareil\, quand on a été touchée par la grâce de la Rose. Le Chemin des Roses commence réellement une fois qu’on a ressenti la rose\, qu’on a été touché par la présence de la rose depuis l’intérieur.\n\nPendant la première partie de notre temps ensemble nous explorons l’archétype moderne de Marie-Madeleine\, la façon dont elle libère le féminin aujourd’hui et sa reliance à la rose et pendant la deuxième partie de cet atelier nous intégrons l’archétype de Marie-Madeleine et nous éveillons la rose en nous à travers une danse intuitive. \nAtelier le Chemin des Roses: \n\n1h de transmission sur Marie-Madeleine par Anaïs (activation)\n1h15 de pratique Danse de la Rose par Camille (activation)\n30mn de cercle collectif ouvert (intégration)\n15mn d’arrivée\, 15mn d’atterrissage.\n\n\nInscription & Infos Pratiques \n\nL’atelier a lieu le Jeudi 3 Octobre de 19h à 21h30 en direct sur zoom\nLa participation à l’atelier est 44€\nVous pouvez réserver votre place via le lien suivant: https://www.pathofthemagdalene.academy/offers/DG4usKBT\n\n  \nEnsemble\, nous traçons un Chemin commun. \nAvec passion\,  \nAnaïs et Camille. 
URL:https://pathofthemagdalene.com/event/atelier-le-chemin-des-roses/
ATTACH;FMTTYPE=image/png:https://pathofthemagdalene.com/wp-content/uploads/2024/09/Chemin-des-Roses-Anais-1920-x-1080-px-1.png
END:VEVENT
BEGIN:VEVENT
DTSTART;VALUE=DATE:20241025
DTEND;VALUE=DATE:20241028
DTSTAMP:20260425T050549
CREATED:20240808T083825Z
LAST-MODIFIED:20240808T083825Z
UID:10000085-1729814400-1730073599@pathofthemagdalene.com
SUMMARY:Voie de la Madeleine - Initiation III - Du 25 au 27 Octobre 2024
DESCRIPTION:La Voie de la Madeleine est un chemin d’initiation pour les femmes\, il lève le voile sur les mystères qui entourent Marie Madeleine. Il s’agit d’une initiation à sa médecine\, à sa philosophie et à sa spiritualité. Vous apprendrez à la connaître en tant que prêtresse d’une ancienne école de mystères\, apôtre des apôtres\, membre important et apprécié de sa communauté et l’une des figures déterminantes de notre histoire humaine. \nIl s’agit d’un chemin pour récupérer notre sagesse féminine\, éveiller notre pouvoir intérieur\, abandonner les illusions sur la féminité et nous familiariser avec les enseignements de Marie-Madeleine. Vous apprendrez à connaître l’énergie de guérison de la rose et l’énergie de Marie-Madeleine et vous commencerez à intégrer ces essences à l’intérieur de vous pour nourrir tous les aspects de votre vie avec la vibration de la rose. \nCe parcours s’adresse aux femmes qui : \n* veulent en savoir plus sur Marie Madeleine\, son histoire et son importance pour les femmes d’aujourd’hui et notre monde en évolution \n* Sont prêtes à assumer pleinement qui elles sont\, à se tenir debout et à agir pour se guérir et guérir le monde. \n* veulent faire partie d’une fraternité saine \n* Se sentent appelées par l’héritage de la prêtresse de l’école des mystères \n* Avoir un réel désir d’être au service de l’amour et de soutenir le chemin de l’harmonie\, de la compassion et de la sacralité. \n* Se sentent appelées par le parfum et l’enseignement de la rose \nVotre initiation contient des rituels sacrés\, une histoire révisée de Marie-Madeleine\, la guérison des roses\, la guérison de l’utérus et des chakras\, les pratiques quotidiennes de Marie-Madeleine\, les mystères de Marie-Madeleine : Initiations pour intégrer et éveiller les symboles sacrés de la Madeleine (et éveiller la conscience de la Madeleine à l’intérieur)\, Onction\, Méditations. \n\n\n\nPratique \nDans le troisième niveau nous construisons le pont avec le masculin et approfondissons la connexion avec la Madeleine pour laisser fleurir les graines de la Madeleine dans tous les aspects de la vie. Si vous souhaitez\, vous pouvez organiser des cercles de la Madeleine et des soins de la rose suite à cette initiation. C’est une initiation de trois jours en présence à Glastonbury. Pour participer\, vous avez besoin d’avoir complété le niveau I & II de la Voie de la Madeleine. \nPour en savoir plus sur la Voie de la Madeleine\, cliquez ici. \nInscrivez-vous au niveau III ici. \nVeuillez noter que cette initiation se déroulera en français et en anglais.
URL:https://pathofthemagdalene.com/event/voie-de-la-madeleine-initiation-iii-du-25-au-27-octobre-2024/
ATTACH;FMTTYPE=image/png:https://pathofthemagdalene.com/wp-content/uploads/2023/06/Website-Event-Visuals-1.png
END:VEVENT
BEGIN:VEVENT
DTSTART;TZID=Europe/London:20241031T090000
DTEND;TZID=Europe/London:20241109T170000
DTSTAMP:20260425T050549
CREATED:20240404T145820Z
LAST-MODIFIED:20240307T113021Z
UID:10000068-1730365200-1731171600@pathofthemagdalene.com
SUMMARY:Sur les traces des myrrophores en Égypte Ancienne
DESCRIPTION:Rejoignez-nous pour un voyage sur les traces des parfums sacrés en Égypte Ancienne. La grande civilisation qui pratiquait l’art de l’alchimie royale a perfectionné l’utilisation des huiles pour la guérison et la dévotion et nous a laissé un héritage en or auquel on peut reconnecter aujourd’hui pour resacraliser le monde. \nVenez explorer l’histoire et l’utilisation des huiles sacrées dans les temples égyptiens. Vous découvrirez les recettes des huiles utilisées dans les temples\, la façon dont elles étaient appliquées\, le rôle de l’huile en tant que psychopompe et sa place dans l’art de la guérison. Nous retracerons ensemble la route des parfums\, des épices et des encens et nous nous laisserons émerveiller par les recettes des parfums inscrits sur les murs des plus beaux temples. \n\nCe que nous verrons ensemble\n\n\nVous pratiquerez l’art divin des huiles et des encens avec ce que vous venez d’apprendre dans les temples et à travers la connexion aux dieux et déesses à qui les huiles étaient dédiées et offerts comme les offrandes les plus sacrés. Un parcours qui réveillera votre âme et ennivra votre esprit. \nSur le programme : \n\nVisite des pyramides de Sakkara et du sérapeum\, visite d’une ferme de lotus bleue et d’une distillerie de plantes et fleurs locales\, visites des temples de Medinet Habu\, Dendera\, Abydos\, Luxor\, Karnak\, Edfu\, Komombo\, Philae\n4 nuits sur le Dahabiya en naviguant le Nil pour visiter les temples au bord du Nil.\nInitiation dans l’art des huiles et encens sacrées : Histoire des huiles : d’où elles venaient\, quelles huiles étaient utilisées dans quels temples et dans quel but\nComment composer\, charger et utiliser une huile sacrée\nComment pratiquer la divination avec les huiles sacrées\nComment utiliser les huiles et encens pour la guérison\, pour la bénédiction d’un espace et la création d’un espace temple\nL’art des huiles et encens sacrées comme outil pour la guérison de l’humanité\nInitiation dans la symbolique des dieux et déesses égyptiens et la haute alchimie\n\nPratique\nNous partons du 31 Octobre au 9 Novembre 2024\nLe Tarif du voyage est 3600€ \nCe prix comprend: \n\nLe logement sur place + petit-déjeuner dans tous les hôtels\n4 nuits + 5 jours sur un bateau Dahabiya + pension complète\nLes entrées des temples et sites\nLe vol interne en Égypte : Caire-Louxor\nCérémonie sacrée dans le temple de Dendera\nInitiation dans l’histoire et l’art des parfums et encens sacrés en Égypte Ancienne\nGuide privé qui accompagne toutes les visites\nInitiation dans la médecine énergétique de l’Égypte\nVisite cultivateur de lotus bleue et distillerie de parfum\nGuide écrit sur l’art de la parfumerie sacrée\n\nInscription\nSi vous souhaitez participer\, envoyez un message à hello@pathofthemagdalene.com et nous vous enverrons le formulaire d’incription.
URL:https://pathofthemagdalene.com/event/sur-les-traces-des-myrrophores-en-egypte-ancienne/
ATTACH;FMTTYPE=image/jpeg:https://pathofthemagdalene.com/wp-content/uploads/2024/03/AdobeStock_640710043-scaled.jpeg
END:VEVENT
BEGIN:VEVENT
DTSTART;TZID=Europe/London:20241211T183000
DTEND;TZID=Europe/London:20241211T213000
DTSTAMP:20260425T050549
CREATED:20241113T141552Z
LAST-MODIFIED:20241118T165831Z
UID:10000096-1733941800-1733952600@pathofthemagdalene.com
SUMMARY:Agora - Oh My Gold
DESCRIPTION:Agora – Un atelier pour transmettre votre message\nau monde. Un conseil d’hommes et de femmes au Service \nlibéré \naffranchi \naccompli \nréalisé \nEmergez dans l’expérience des transmissions somatiques et activantes. Cette expérience sacrée est une opportunité de ressentir dans votre corps ce que vous êtes destiné à offrir au monde et de débloquer les codes de l’abondance sans corrompre votre vérité. \nIl s’agit d’un Mastercalss en direct qui comprend un discours\, une méditation et une pratique d’incarnation. Une rediffusion sera disponible. Un lien de participation sera envoyé lors de l’inscription. \nPour acheter et s’inscrire – cliquez ici \nSuite à cette pratique\, vous ressortirez confiant\, debout et visionnaire de la certification Agora\nvous pourrez présenter la nouvelle version de votre entreprise au Conseil Collectif Agora\nvous emporterez avec vous des outils précieux pour la vie\nvous aurez accès à une communauté de frères et sœurs sur le même chemin que vous\nvous saurez exactement quelle direction prendre et quelles actions entreprendre par vous-même \nPour acheter et s’inscrire – cliquez ici
URL:https://pathofthemagdalene.com/event/agora-oh-my-gold/
ATTACH;FMTTYPE=image/jpeg:https://pathofthemagdalene.com/wp-content/uploads/2024/11/AGORA.jpg
END:VEVENT
BEGIN:VEVENT
DTSTART;TZID=Europe/London:20241222T100000
DTEND;TZID=Europe/London:20241222T123000
DTSTAMP:20260425T050550
CREATED:20241101T114924Z
LAST-MODIFIED:20241216T162511Z
UID:10000093-1734861600-1734870600@pathofthemagdalene.com
SUMMARY:Avalon du Coeur
DESCRIPTION:Avalon a été un point de convergence pour des chercheurs et chercheuses et guides mystiques à travers les âges\net ce\, pour de bonnes raisons. Connu également comme le chakra du cœur de la planète\, ce lieu de pouvoir\nest un temple pour les grands mystères de l’ascension du cœur\, de l’alchimie et du Hieros Gamos (le mariage divin). \nOn entre à Avalon d’une certaine manière\, on en sort différent. C’est un lieu de transformation profonde\nqui a la capacité d’ouvrir l’individu à un potentiel et à une expansion illimités\, si….\nil est prêt à faire face à son incohérence intérieure et à addresser les fréquences de fausseté\, à\nplonger dans les sombres mystères et à avoir le courage de s’engager dans la voie de la vérité. \nCe royaume magique de la conscience supérieure qui se cache derrière les brumes de Glastonbury\net est encodé dans les repères physiques de la ville tels que le Tor\, le Chalice Well et l’Abbaye\,\na été ma maison pendant plus de 7 ans et le temple des mystères qui m’a initiée et ordonnée\ndans la lignée de la rose et le voie de sagesse de la Madeleine.\nAu fil des années\, j’ai pu accéder à de multiples couches de compréhension et de sagesse\nau sein de sa riche mystique et de découvrir certains de ses secrets et de ses histoires cachées\nqui expliquent pourquoi Avalon a été tenu en si haute estime et pourquoi ce lieu joue un rôle tellement\nimportant à notre époque de grands changements et d’évolution potentielle. \nRejoignez-moi pour lever le voile sur les liens entre Avalon\, l’alchimie\, Marie-Madeleine\,\nMerlin\, Joseph d’Arimathie\, les druides\, les traditions des mystères de Sumer et de Babylone et bien d’autres choses encore.\nCe partage est ma lettre d’amour et mon hommage à la terre avec laquelle j’ai été mariée pendant plus de 7 ans. \nInformations pratiques \nLa conférence et l’atelier auront lieu le dimanche 22 décembre 2024 de\n10h à 12h30 heure française et belge. La participation sur base de don\navec une contribution minimale de £10 \nPour participer\, vous pouvez vous inscrire ICI :https://www.pathofthemagdalene.academy/offers/UJyj9voa
URL:https://pathofthemagdalene.com/event/avalon-du-coeur/
CATEGORIES:Masterclass
ATTACH;FMTTYPE=image/jpeg:https://pathofthemagdalene.com/wp-content/uploads/2024/11/Avalon_105513411-scaled.jpeg
END:VEVENT
BEGIN:VEVENT
DTSTART;TZID=Europe/London:20250129T193000
DTEND;TZID=Europe/London:20250129T193000
DTSTAMP:20260425T050550
CREATED:20240116T105556Z
LAST-MODIFIED:20250129T202158Z
UID:10000064-1738179000-1738179000@pathofthemagdalene.com
SUMMARY:Réveiller la Muse à Imbolc
DESCRIPTION:Inviter la muse à Imbolc pour inspirer et alimenter nos créations de l’année. \nNous commençons en regardant l’origine et la symbolique de Brigid afin de comprendre son pouvoir et d’être en mesure de travailler consciemment avec ses symboles et son énergie pour soutenir nos processus créatifs. Nous ferons ensuite une méditation pour nous connecter à l’énergie de Brigid et allumer notre foyer intérieur et nous terminons avec un exercice de visualisation créative pour fertiliser nos projets. Je vous donnerai quelques pratiques et outils que vous pouvez faire à la maison pour renforcer votre connexion à la muse et votre propre feu créatif. \nÀ l’occasion d’Imbolc\, Brigid allume le feu de la création et de la croissance dans les profondeurs de la terre et refait circuler la sève. Elle fait pareil pour nous : elle rallume notre flamme intérieure et fait circuler à nouveau nos jus créatifs. Plus nous nourrissons notre feu\, plus notre lumière brille et plus nos créations illumineront le monde. Quel est ce feu qui brûle dans notre foyer intérieur ? Quel est le carburant de notre existence ? Notre feu est la direction que notre âme a choisit de prendre avant notre naissance et le désir de notre esprit qui s’expriment dans nos actions et nos créations. C’est le pouls qui sous-tend tout ce que nous faisons. Qu’est-ce qui alimente nos actions ? Quels sont les désirs profonds qui brûlent dans nos cœurs et qui ont besoin d’être manifestés ou exprimés ? \nPour moi\, mon feu est ma foi dans le pouvoir de guérison de la gentillesse et le pouvoir de transformation du cœur. Je crois profondément que l’amour et la beauté sauveront le monde et c’est ce feu qui alimente toutes mes créations. Quel est votre feu? Quel est le battement de votre cœur? Quel mantra inspirera votre danse sacrée cette année? \nRéservez votre place ici
URL:https://pathofthemagdalene.com/event/reveiller-la-muse-a-imbolc/
ATTACH;FMTTYPE=image/png:https://pathofthemagdalene.com/wp-content/uploads/2024/01/imbolc.png
END:VEVENT
BEGIN:VEVENT
DTSTART;VALUE=DATE:20250329
DTEND;VALUE=DATE:20250428
DTSTAMP:20260425T050550
CREATED:20241105T123534Z
LAST-MODIFIED:20250112T222525Z
UID:10000095-1743206400-1745798399@pathofthemagdalene.com
SUMMARY:Formation de Prêtresse de la Nouvelle Terre - Formation d'un mois au Mexique - Du 29 mars au 27 avril 2025
DESCRIPTION:Nous convoquons toutes les prêtresses\, les artisans du changement\, les gardiennes de la sagesse et les gardiennes de la terre qui se sentent appelées à servir l’humanité et la terre en ces temps de transition et de croissance. Tous les leaders sacrés qui souhaitent aider les autres à se reconnecter à leur étincelle divine et à incarner des fréquences de lumière plus élevées\, qui sont prêts à accompagner la naissance d’un nouveau modèle terrestre. \nNotre programme de leadership terrestre sacré est conçu pour vous aider à devenir un puissant catalyseur de changement positif dans ce monde. Nous proposons une école de prêtresses d’une durée d’un mois qui constitue un puissant accélérateur de votre chemin de service dans un magnifique temple terrestre à haute fréquence. Notre école du souvenir a pour but de vous rappeler votre héritage en tant que travailleuse de la lumière\, de vous fournir les outils pour tenir avec confiance un espace transformationnel\, de créer des rituels et de fournir un espace de temple à votre communauté. Nous vous aiderons à affiner et à amplifier votre fréquence unique afin d’apporter un plus grand soutien à vos clients et d’apporter votre médecine avec plus de puissance dans le monde. \nVous sentez-vous appelé à agir et à aider notre monde à évoluer vers une expression plus belle\, plus compatissante et de dimension supérieure ? Êtes-vous enthousiaste à l’idée de contribuer à l’émergence d’un nouveau paradigme terrestre ? \nRegardez ici pour trouver toutes les informations et pour vous Inscrire \nEnsemble\, nous nous élevons \n  \n  \n 
URL:https://pathofthemagdalene.com/event/formation-de-pretresse-de-la-nouvelle-terre-formation-dun-mois-au-mexique-du-29-mars-au-27-avril-2025/
ATTACH;FMTTYPE=image/png:https://pathofthemagdalene.com/wp-content/uploads/2024/11/French-New-Earth-.png
END:VEVENT
BEGIN:VEVENT
DTSTART;VALUE=DATE:20250719
DTEND;VALUE=DATE:20250722
DTSTAMP:20260425T050550
CREATED:20250827T105448Z
LAST-MODIFIED:20240806T082736Z
UID:10000081-1752883200-1753142399@pathofthemagdalene.com
SUMMARY:The Sacred Magdalene Festival - 2025
DESCRIPTION:The Sacred Magdalene Festival offers you three immersive days in Glastonbury\, the heart chakra of the world. A transforming\, beautiful experience of Mary Magdalene’s energy\, wisdom\, grace and power rising within you and filling your heart. It is an attunement to the authentic vibration of the Magdalene to inspire and illuminate you with love. \nThe Sacred Magdalene Festival is a way to honour Mary Magdalene’s legacy in Avalon and to awaken the blueprint of the rose in our cells by remembering together her transmission and her journey. In her image\, we aim to create a gathering of beauty\, power and grace. We will gather in a temple space imbued with the fragrance of the rose and aligned to the energy of the sword of truth\, holding all of us for three days and allowing for powerful transformations and awakening. \nWe look forward to sharing Mary Magdalene’s wisdom and teachings with you and welcoming you to your Sacred Magdalene experience. Click here for more details about the Festival. \nYou can book your place at The Sacred Magdalene Festival here: tickets are available now for the Sacred Magdalene
URL:https://pathofthemagdalene.com/event/the-sacred-magdalene-festival/
ATTACH;FMTTYPE=image/jpeg:https://pathofthemagdalene.com/wp-content/uploads/2024/08/1-2.jpg
END:VEVENT
BEGIN:VEVENT
DTSTART;TZID=Europe/London:20250802T130000
DTEND;TZID=Europe/London:20250802T170000
DTSTAMP:20260425T050550
CREATED:20250630T113348Z
LAST-MODIFIED:20250630T115008Z
UID:10000098-1754139600-1754154000@pathofthemagdalene.com
SUMMARY:Rosa Mystica - Un voyage dans les mystères du rosaire
DESCRIPTION:Plongez dans les mystères du saint rosaire – un objet et symbole mystique qui a traversé les siècles\, qui a survécu à la suppression du féminin dans la société et la vie religieuse. Un objet et une pratique à nombreux secrets qui portent en eux des clés pour que l’humanité retrouve son chemin. Une pratique dont on pourrait dire qu’elle distille l’essence d’une lignée ancienne et sacrée dédiée à la Mère Divine et à l’amour du vivant. \nPrier le rosaire est un acte de foi\, un chemin mystique nous ramenant au centre et un catalyseur de miracles. \n« Le Rosaire est le moyen le plus puissant de la mission » – Saint Louis de Montfort \nAu cours de cette immersion d’une journée\, nous allons : \n\nVoir l’histoire et les origines mystiques du rosaire\nApprendre comment prier le rosaire\nPlonger dans la signification des prières qui soutiennent le rosaire\nFaire un rituel de bénédiction de votre rosaire\nParler de l’effet du rosaire sur la conscience et son rôle dans le monde\n\nPratique \nL’atelier a lieu en direct sur zoom. Vous recevrez automatiquement accès au replay par la suite. Vous pouvez vous inscrire via le lien suivant: Atelier Rosa Mystica \nL’atelier a lieu le samedi 2/08 de 14h à 18h CET (Paris\, Bruxelles) \nPréparez: \n\nUn stylo et carnet\nvotre rosaire
URL:https://pathofthemagdalene.com/event/rosa-mystica-un-voyage-dans-les-mysteres-du-rosaire/
CATEGORIES:Masterclass
ATTACH;FMTTYPE=image/jpeg:https://pathofthemagdalene.com/wp-content/uploads/2025/06/mystical-rose-scaled.jpeg
END:VEVENT
BEGIN:VEVENT
DTSTART;VALUE=DATE:20250921
DTEND;VALUE=DATE:20250922
DTSTAMP:20260425T050550
CREATED:20240808T095719Z
LAST-MODIFIED:20250827T125118Z
UID:10000086-1758412800-1758499199@pathofthemagdalene.com
SUMMARY:Ministère de la Madeleine - Débute le 21 septembre 2025
DESCRIPTION:Les portes du Ministère de la Mdadeleine sont désormais ouvertes ! Si vous avez complété la Voie de la Madeleine ou la Voie du Graal et que vous êtes prêt(e) à vous engager sérieusement sur votre voie de prêtre(sse) pour partager avec le monde votre médecine sacrée unique\, vous pouvez vous inscrire à ce cours d’un an qui vous préparera à tout ce que vous devez savoir et incarner pour accomplir votre service sacré. \nJusqu’au 10 septembre inclus\, vous pouvez vous inscrire au tarif actuel de. Après cette date\, le nouveau tarif de 2222 € sera appliqué. Si vous souhaitez bénéficier du tarif actuel\, vous pouvez vous inscrire au Ministère avant le 10/09/2024\, même si vous terminez la première partie de votre initiation en octobre de cette année. \nCliquez ici pour plus de détails sur le Ministère de la Madeleine \nInscription ici \nLe prix de 2555€ est valable jusqu’au 15 septembre inclus
URL:https://pathofthemagdalene.com/event/ministere-de-la-madeleine-debute-le-11-septembre-2024/
ATTACH;FMTTYPE=image/jpeg:https://pathofthemagdalene.com/wp-content/uploads/2024/08/1-3.jpg
END:VEVENT
BEGIN:VEVENT
DTSTART;VALUE=DATE:20250926
DTEND;VALUE=DATE:20250929
DTSTAMP:20260425T050550
CREATED:20250827T105516Z
LAST-MODIFIED:20250827T105544Z
UID:10000104-1758844800-1759103999@pathofthemagdalene.com
SUMMARY:The Heart of the Rose Summit
DESCRIPTION:The Heart of the Rose online summit is a 3-day online summit that celebrates and amplifies the message of the rose and the Magdalene in our world with full days of talks\, workshops and ceremonies held by world-renowned teachers in the field of the rose and the sacred feminine. \nThe summit will be the seed gathering to launch an international rose community and platform. \nThe women’s Summit will take place from the 26-28th September (c.9am-9pm BST time).\nWe will be inviting and welcoming the rose brothers to join on Sunday. \n  \n\n\n\n\nFRIDAY – WHITE ROSE\n9-10am – Opening Circle \n10.15-11.30 – Anaïs Theyskens\, Bianca Kempe and Sophie Nevill – The Birth of the Golden Rose Age + Rose Foundation (https://www.instagram.com/anaismagdalenepriestess/\, https://www.instagram.com/iambiancakempe/\, https://www.instagram.com/the_kindest_thing/) \n11.30 – 12 – BREAK \n12-1.15 – XiangMing – The Original Dragon Lineages of Christ & Rainbow Prophecy of the 13th Tribe (https://www.instagram.com/earthstar.academy/) \n1.15-2.30 – LUNCH (breakout rooms) \n2.30 – 3.45 – Marguerite Rigoglioso\, Ph.D. – The Rose Lineage of the Marys + the Tradition of Miraculous Conception (SevenSistersMysterySchool.com) (https://www.instagram.com/margueriterigoglioso/) \n3.45-4.15 – BREAK \n4.15-5.45 – lsis Indriya and Rachel Rossitto – The Empress Codes (https://www.instagram.com/isis_indriya/ https://www.instagram.com/rachelrossitto/) \n6-6.30 –  Uma Dinsmore-Tuli – Yoga Nidra – Radical Rest (https://www.instagram.com/umadinsmoretuli/) \n6.30-8pm – DINNER \n8-9.30 – Achintya Devi + Ameya Cohen – Venusian Rose Grail Mysteries: Re-linking to the Power of the Womb (https://www.instagram.com/goddess_rising/ https://www.instagram.com/ameyacohen/) \n\n\n\n\n\n\n\n\n\n\n\n\n\n\n\n\nSATURDAY – RED ROSE\n9/9.30-10am – Morning Prayer and Meditation \n10.15-11.30 – Aletheia Pistis Sophia – Mary Magdalene’s Journey through France: Reclaiming the Anointed Feminine in the Temples of the Earth (https://www.instagram.com/aletheia.pistis.sophia/) \n11.30-12 – BREAK \n12–1.15 – Ebyan Zanini – The Dark Goddess Temple (https://www.instagram.com/ebyanzanini/) \n1.15 – 2.30 – LUNCH (breakout rooms) \n2.30 – 3.30 – Sophie Strand – Re-wilding the Magdelene: The Embodied Gospel (https://www.instagram.com/cosmogyny/) \n3.30-4 – BREAK \n4-5.30 – Rebecca Campbell – Healing the Mother-line with the Rose (https://www.instagram.com/rebeccacampbell_author/) \n6-6.30pm – Uma Dinsmore-Tuli – Yoga Nidra – Radical Rest (https://www.instagram.com/umadinsmoretuli/) \n6.30-8pm – DINNER \n8-9.30pm – Marya Stark – Live Music and Ceremony (marya-stark.com) (https://www.instagram.com/maryastark/) \n\n\n\n\n\n\n\n\n\n\n\n\n\n\n\n\nSUNDAY – PINK ROSE\n9-10.15 – Morning Prayer + Welcoming the Brothers of the Rose \n10.30-11.45 – Kiya Ankara and Leyolah Antara –  An Introduction to Egyptian Tantra (https://www.instagram.com/leyolah_antara/ https://www.instagram.com/kiya.ankara/) \n11.45 – 12.15 – BREAK \n12.15- 1.30 – Alize and Oliver Mathea – The Grail and Holy Family Legacy of Albion (https://www.instagram.com/alize_lily/ https://www.instagram.com/thegnosticdruid/) \n1.30 – 2.30 – LUNCH (breakout rooms) \n2.30-3.45 – Zefirah and Maxwell Gallman – Architecture of Creation: Building the New Temples in Union (https://www.instagram.com/gardenofazura/) \n3.45-4.15 – BREAK \n4.15 – 5.30 – Azra and Seren Bertrand – The Rose of the World – Remembering our Womb Cosmology (https://www.instagram.com/azra.bertrand/ https://www.instagram.com/serenbertrand/) \n5.45- 6.15 – Church of Love – Rev. Samantha Moyo  (https://www.instagram.com/mysticmoyo/) \n6.15-7.30 – DINNER \n7.30-9.30 – GLOBAL PRAYER CEREMONY \n\n\n\n\nFor more info\, you can have a look at the Heart of the Rose website HERE\nYou can have a look at the different ticket options HERE
URL:https://pathofthemagdalene.com/event/the-heart-of-the-rose-summit/
ATTACH;FMTTYPE=image/jpeg:https://pathofthemagdalene.com/wp-content/uploads/2025/08/525771329_10162413291693692_5263660158096935766_n.jpg
END:VEVENT
END:VCALENDAR