BEGIN:VCALENDAR
VERSION:2.0
PRODID:-//Path of the Magdalene - ECPv6.15.13//NONSGML v1.0//EN
CALSCALE:GREGORIAN
METHOD:PUBLISH
X-ORIGINAL-URL:https://pathofthemagdalene.com
X-WR-CALDESC:Évènements pour Path of the Magdalene
REFRESH-INTERVAL;VALUE=DURATION:PT1H
X-Robots-Tag:noindex
X-PUBLISHED-TTL:PT1H
BEGIN:VTIMEZONE
TZID:Europe/London
BEGIN:DAYLIGHT
TZOFFSETFROM:+0000
TZOFFSETTO:+0100
TZNAME:BST
DTSTART:20210328T010000
END:DAYLIGHT
BEGIN:STANDARD
TZOFFSETFROM:+0100
TZOFFSETTO:+0000
TZNAME:GMT
DTSTART:20211031T010000
END:STANDARD
BEGIN:DAYLIGHT
TZOFFSETFROM:+0000
TZOFFSETTO:+0100
TZNAME:BST
DTSTART:20220327T010000
END:DAYLIGHT
BEGIN:STANDARD
TZOFFSETFROM:+0100
TZOFFSETTO:+0000
TZNAME:GMT
DTSTART:20221030T010000
END:STANDARD
BEGIN:DAYLIGHT
TZOFFSETFROM:+0000
TZOFFSETTO:+0100
TZNAME:BST
DTSTART:20230326T010000
END:DAYLIGHT
BEGIN:STANDARD
TZOFFSETFROM:+0100
TZOFFSETTO:+0000
TZNAME:GMT
DTSTART:20231029T010000
END:STANDARD
BEGIN:DAYLIGHT
TZOFFSETFROM:+0000
TZOFFSETTO:+0100
TZNAME:BST
DTSTART:20240331T010000
END:DAYLIGHT
BEGIN:STANDARD
TZOFFSETFROM:+0100
TZOFFSETTO:+0000
TZNAME:GMT
DTSTART:20241027T010000
END:STANDARD
END:VTIMEZONE
BEGIN:VEVENT
DTSTART;TZID=Europe/London:20230329T190000
DTEND;TZID=Europe/London:20230329T213000
DTSTAMP:20260420T075803
CREATED:20230324T154536Z
LAST-MODIFIED:20230328T184432Z
UID:10000036-1680116400-1680125400@pathofthemagdalene.com
SUMMARY:Cercle de la Madeleine
DESCRIPTION:Un cercle de la Madeleine pour nous accompagner à travers le seuil du printemps. Ce cercle a pour intention de rassembler notre énergie pour nous aider à renaître et à nous projeter dans un avenir vibrant et vivant. \nUn cercle de la Madeleine est une rencontre avec l’énergie de Marie-Madeleine et la médecine de la rose. Chaque cercle crée un jardin de roses\, un espace temple créé par chaque personne qui participe à la rencontre. Un cercle alchimise et élève notre fréquence\, aidé par la présence bienveillante de la Madeleine. \nVous pouvez vous inscrire via ce lien
URL:https://pathofthemagdalene.com/event/cercle-de-la-madeleine/
ATTACH;FMTTYPE=image/jpeg:https://pathofthemagdalene.com/wp-content/uploads/2022/11/AdobeStock_519079460-1-scaled.jpeg
END:VEVENT
BEGIN:VEVENT
DTSTART;TZID=Europe/London:20230327T100000
DTEND;TZID=Europe/London:20230327T170000
DTSTAMP:20260420T075803
CREATED:20221109T075708Z
LAST-MODIFIED:20221109T075728Z
UID:10000032-1679911200-1679936400@pathofthemagdalene.com
SUMMARY:Voie du Graal - Niveau I - En Ligne pré-enregistré - Lancement
DESCRIPTION:La Voie du Graal est une initiation pour hommes dans les mystères de la mère divine et la médecine mystique de la rose à travers la rencontre avec Marie-Madeleine et ses enseignements. \nCette quête du Graal réveille les mémoires des chevaliers de la table ronde\, l’esprit des templiers et l’énergie des cours de l’amour courtois et fait le lien avec les transmissions de Marie\, Marie-Madeleine et Jésus. \n\nCette voie appelle les hommes qui: \n\n\n\n\n\n\n*Ont envie d’en savoir plus sur Marie-Madeleine\, son histoire et sa pertinence pour notre monde aujourd’hui\n*Sont prêts à s’assumer pleinement\, à se redresser et à prendre des actions concrètes pour leur propre guérison et la guérison du monde\n*Ont envie d’éveiller et honorer la présence du féminin aux côtés du masculin en eux et d’établir des liens sains avec le féminin autour d’eux\n*Il y a un vrai désir d’être au service de la Voie de l’Amour dans le monde et de renforcer la voie de l’harmonie\, de la compassion et du sacré\n*Sont appelés par le parfum\, l’enseignement et les mystères de la rose \n\n\n\n\n\n\nVotre initiation contient des rituels sacrés\, l’histoire revisitée de Marie-Madeleine\, soins de la rose\, pratiques quotidiennes du Graal et de la Madeleine\, les Mystères de la Madeleine: initiations pour intégrer et éveiller les symboles sacrés de la Madeleine en vous\, onctions\, méditations\, etc. \n\nEn savoir plus sur la Voie du Graal et s’inscrire: https://pathofthemagdalene.com/fr/portfolio/la-voie-du-graal/
URL:https://pathofthemagdalene.com/event/voie-du-graal-niveau-i-en-ligne-pre-enregistre-lancement/
ATTACH;FMTTYPE=image/png:https://pathofthemagdalene.com/wp-content/uploads/2022/11/La-voie-du-Graal-11.png
END:VEVENT
BEGIN:VEVENT
DTSTART;TZID=Europe/London:20230222T100000
DTEND;TZID=Europe/London:20230222T100000
DTSTAMP:20260420T075803
CREATED:20221108T204610Z
LAST-MODIFIED:20221110T143537Z
UID:10000029-1677060000-1677060000@pathofthemagdalene.com
SUMMARY:Voie de la Madeleine - Niveau II - En Ligne pré-enregistré lancement
DESCRIPTION:La Voie de la Madeleine est un chemin d’initiation et de floraison créé pour les femmes. En comprenant mieux l’histoire et la fréquence de Marie-Madeleine\, nous devenons entièrement vivantes. Le deuxième niveau de l’initiation est ouvert aux femmes qui ont complété la première initiation en ligne. Vous recevrez ici deux autres mystères de la Madeleine et vous approfondissez la médecine de la rose. \n\nVotre initiation contient des rituels sacrés\, l’histoire revisitée par Marie-Madeleine\, la guérison de la rose\, guérison de l’utérus et des chakras\, des pratiques quotidiennes de la Madeleine\, les mystères de la Madeleine: Initiations pour intégrer et éveiller les symboles sacrés de la Madeleine (éveiller la conscience de la Madeleine en nous)\, des méditations\, etc. \nEn Savoir plus sur la Voie de la Madeleine et s’inscrire: https://pathofthemagdalene.com/fr/portfolio/voie-de-la-madeleine/
URL:https://pathofthemagdalene.com/event/voie-de-la-madeleine-niveau-ii-en-ligne-pre-enregistre-lancement/
ATTACH;FMTTYPE=image/png:https://pathofthemagdalene.com/wp-content/uploads/2022/11/Black-and-White-Wedding-Facebook-Event-Cover-Photo-7.png
END:VEVENT
BEGIN:VEVENT
DTSTART;TZID=Europe/London:20230107T100000
DTEND;TZID=Europe/London:20230107T170000
DTSTAMP:20260420T075803
CREATED:20221017T190106Z
LAST-MODIFIED:20221108T203844Z
UID:10000024-1673085600-1673110800@pathofthemagdalene.com
SUMMARY:Voie de la Madeleine- Niveau I - En ligne Pré-enregistré - Lancement
DESCRIPTION:La Voie de la Madeleine est un chemin d’initiation et de floraison créé pour les femmes. En comprenant mieux l’histoire et la fréquence de Marie-Madeleine\, nous devenons entièrement vivantes. \nLe premier niveau de la Voie de la Madeleine a pour intention d’éveiller la fréquence de la Madeleine en vous. Vous recevez et activez les mystères de la Madeleine en vous\, apprenez plus sur son histoire et vous recevez une introduction dans la médecine de la rose. Vous commencez à retrouver le fil rouge de votre propre histoire et vous permettez au féminin guéri de prendre racine en vous. \n\nCe chemin est ouvert pour les femmes qui: \n\n\n\nOnt envie d’en savoir plus sur Marie-Madeleine\, son histoire et sa pertinence pour le féminin et notre monde aujourd’hui\nSont prêtes à s’assumer pleinement\, à se redresser et à prendre des actions concrètes pour leur propre guérison et la guérison du monde\nOnt envie de découvrir et vivre une sororité saine\nSont appelés par le chemin des prêtresses des mystères\nIl y a un vrai désir d’être au service de la Voie de l’Amour dans le monde et de renforcer la voie de l’harmonie\, de la compassion et du sacré\nSont appelés par le parfum et l’enseignement de la rose\n\n\n\nVotre initiation contient des rituels sacrés\, l’histoire revisitée par Marie-Madeleine\, la guérison de la rose\, guérison de l’utérus et des chakras\, des pratiques quotidiennes de la Madeleine\, les mystères de la Madeleine: Initiations pour intégrer et éveiller les symboles sacrés de la Madeleine (éveiller la conscience de la Madeleine en nous)\, des méditations et un travail avec les huiles. \nEn Savoir plus sur la Voie de la Madeleine et s’inscrire: https://pathofthemagdalene.com/fr/portfolio/voie-de-la-madeleine/
URL:https://pathofthemagdalene.com/event/voie-de-la-madeleine-niveau-i-en-ligne-pre-enregistre-lancement/
ATTACH;FMTTYPE=image/png:https://pathofthemagdalene.com/wp-content/uploads/2022/10/Black-and-White-Wedding-Facebook-Event-Cover-Photo-3.png
END:VEVENT
BEGIN:VEVENT
DTSTART;TZID=Europe/London:20221227T180000
DTEND;TZID=Europe/London:20221227T203000
DTSTAMP:20260420T075803
CREATED:20221113T162523Z
LAST-MODIFIED:20221113T163456Z
UID:10000035-1672164000-1672173000@pathofthemagdalene.com
SUMMARY:Cercle de la Madeleine - En Ligne
DESCRIPTION:Un cercle de la Madeleine est une rencontre avec l’énergie de Marie-Madeleine et la médecine de la rose. Chaque cercle crée un jardin de roses\, un espace temple créé par chaque personne qui participe à la rencontre. Un cercle alchimise et élève notre fréquence\, aidé par la présence bienveillante de la Madeleine. \nCe cercle est une combinaison de cercle de partage\, soin de la rose et méditation guidée. Chaque cercle entame et invite un processus de guérison et transformation. Ce cercle a pour intention de nous aider à faire la paix avec les événements et énergies de 2022\, de clôturer le chapitre de cette année pour ouvrir un nouveau chapitre avec une énergie renouvelée. Une opportunité de remettre les choses à leur juste place et retrouver un espace de paix intérieur et de confiance dans l’avenir. \n\n\n\n\nPratique \n\nCe cercle sera animé par Anaïs Theyskens et Carine Sauvion.\nPour participer vous aurez besoin d’une rose blanche et d’un espace où vous pourrez vous allonger ou asseoir confortablement pour une méditation. \nVous pouvez vous inscrire au cercle ici: https://pathofthemagdalene.com/fr/shop/circle/cercle-de-la-madeleine-27-decembre-2022/
URL:https://pathofthemagdalene.com/event/cercle-de-la-madeleine-en-ligne/
ATTACH;FMTTYPE=image/jpeg:https://pathofthemagdalene.com/wp-content/uploads/2022/11/AdobeStock_519079460-1-scaled.jpeg
END:VEVENT
END:VCALENDAR